BEGIN:VCALENDAR
VERSION:2.0
PRODID:-//Catholic Charities of Orange County - ECPv6.15.20//NONSGML v1.0//EN
CALSCALE:GREGORIAN
METHOD:PUBLISH
X-ORIGINAL-URL:https://ccoc.org
X-WR-CALDESC:Events for Catholic Charities of Orange County
REFRESH-INTERVAL;VALUE=DURATION:PT1H
X-Robots-Tag:noindex
X-PUBLISHED-TTL:PT1H
BEGIN:VTIMEZONE
TZID:UTC
BEGIN:STANDARD
TZOFFSETFROM:+0000
TZOFFSETTO:+0000
TZNAME:UTC
DTSTART:20240101T000000
END:STANDARD
END:VTIMEZONE
BEGIN:VEVENT
DTSTART;VALUE=DATE:20250927
DTEND;VALUE=DATE:20250928
DTSTAMP:20260421T145434
CREATED:20250903T230817Z
LAST-MODIFIED:20250903T230817Z
UID:22405-1758931200-1759017599@ccoc.org
SUMMARY:Catholic Charities Auxiliary Ch. IV Shopping Extravaganza
DESCRIPTION:
URL:https://ccoc.org/event/catholic-charities-auxiliary-ch-iv-shopping-extravaganza-2
LOCATION:Outlets at San Clemente\, 101 W Avenida Vista Hermosa\, San Clemente\, 92672\, United States
CATEGORIES:Auxiliary Events ,Featured Fundraisers
ATTACH;FMTTYPE=image/jpeg:https://ccoc.org/wp-content/uploads/2025/05/CCA-EXTRAVANAGNZA.jpg
END:VEVENT
END:VCALENDAR