BEGIN:VCALENDAR
VERSION:2.0
PRODID:-//Catholic Charities of Orange County - ECPv6.15.20//NONSGML v1.0//EN
CALSCALE:GREGORIAN
METHOD:PUBLISH
X-ORIGINAL-URL:https://ccoc.org
X-WR-CALDESC:Events for Catholic Charities of Orange County
REFRESH-INTERVAL;VALUE=DURATION:PT1H
X-Robots-Tag:noindex
X-PUBLISHED-TTL:PT1H
BEGIN:VTIMEZONE
TZID:UTC
BEGIN:STANDARD
TZOFFSETFROM:+0000
TZOFFSETTO:+0000
TZNAME:UTC
DTSTART:20200101T000000
END:STANDARD
END:VTIMEZONE
BEGIN:VEVENT
DTSTART;VALUE=DATE:20210305
DTEND;VALUE=DATE:20210323
DTSTAMP:20260423T165725
CREATED:20210305T205253Z
LAST-MODIFIED:20210305T205253Z
UID:3623-1614902400-1616457599@ccoc.org
SUMMARY:Operation Easter Basket
DESCRIPTION:Sponsor a Child’s Easter Basket for $10! All baskets will be distributed to low-income families. #40daysofkindnesschallenge #kindness #give #catholiccharitiesatwork #catholiccharities #orangediocese #orangecounty #socialgood #nonprofit #easter2021 #easter
URL:https://ccoc.org/event/operation-easter-basket
LOCATION:Virtual\, CA\, United States
CATEGORIES:Virtual Fundraisers
ATTACH;FMTTYPE=image/png:https://ccoc.org/wp-content/uploads/2021/03/Easter-Basket.png
END:VEVENT
END:VCALENDAR